BEGIN:VCALENDAR
VERSION:2.0
PRODID:-//Senioren-Union Ortsverband Rehau - ECPv6.15.17//NONSGML v1.0//EN
CALSCALE:GREGORIAN
METHOD:PUBLISH
X-ORIGINAL-URL:https://sen-rehau.bplaced.net
X-WR-CALDESC:Veranstaltungen für Senioren-Union Ortsverband Rehau
REFRESH-INTERVAL;VALUE=DURATION:PT1H
X-Robots-Tag:noindex
X-PUBLISHED-TTL:PT1H
BEGIN:VTIMEZONE
TZID:Europe/Berlin
BEGIN:DAYLIGHT
TZOFFSETFROM:+0100
TZOFFSETTO:+0200
TZNAME:CEST
DTSTART:20240331T010000
END:DAYLIGHT
BEGIN:STANDARD
TZOFFSETFROM:+0200
TZOFFSETTO:+0100
TZNAME:CET
DTSTART:20241027T010000
END:STANDARD
BEGIN:DAYLIGHT
TZOFFSETFROM:+0100
TZOFFSETTO:+0200
TZNAME:CEST
DTSTART:20250330T010000
END:DAYLIGHT
BEGIN:STANDARD
TZOFFSETFROM:+0200
TZOFFSETTO:+0100
TZNAME:CET
DTSTART:20251026T010000
END:STANDARD
BEGIN:DAYLIGHT
TZOFFSETFROM:+0100
TZOFFSETTO:+0200
TZNAME:CEST
DTSTART:20260329T010000
END:DAYLIGHT
BEGIN:STANDARD
TZOFFSETFROM:+0200
TZOFFSETTO:+0100
TZNAME:CET
DTSTART:20261025T010000
END:STANDARD
END:VTIMEZONE
BEGIN:VEVENT
DTSTART;TZID=Europe/Berlin:20250129T150000
DTEND;TZID=Europe/Berlin:20250129T170000
DTSTAMP:20260424T001247
CREATED:20250128T141226Z
LAST-MODIFIED:20250128T141226Z
UID:3086-1738162800-1738170000@sen-rehau.bplaced.net
SUMMARY:Nächster Stammtisch mit Heiko Hain als Gast
DESCRIPTION:Ihr seid zu unserem Stammtisch am Mittwoch\, den 29.01. im VfB Heim (Höllbachweg 8 in Rehau) herzlich eingeladen. \nDiesmal dürfen wir unseren CSU-Bundestagskandidaten Heiko Hain als Gast begrüßen. \n  \n 
URL:https://sen-rehau.bplaced.net/event/naechster-stammtisch-mit-heiko-hain-als-gast/
END:VEVENT
END:VCALENDAR